View In:
ArcGIS JavaScript
ArcGIS Online Map Viewer
ArcGIS Earth
ArcMap
View Footprint In:
ArcGIS Online Map Viewer
Service Description: Ortofoto Rural SO de Barranquilla, 7.5 cms de GSD (Ground Sample Distance), tomada en 2016.
Name: ortofoto_rural/Orto_Bquilla_Rur_SO_Esc10000
Description: Ortofoto Rural SO de Barranquilla, 7.5 cms de GSD (Ground Sample Distance), tomada en 2016.
Single Fused Map Cache: false
Extent:
XMin: 909712.3454156036
YMin: 1698811.770696025
XMax: 919432.4954156036
YMax: 1705740.420696025
Spatial Reference: 3116
(3116)
Initial Extent:
XMin: 909712.3454156036
YMin: 1698811.770696025
XMax: 919432.4954156036
YMax: 1705740.420696025
Spatial Reference: 3116
(3116)
Full Extent:
XMin: 909712.3454156036
YMin: 1698811.770696025
XMax: 919432.4954156036
YMax: 1705740.420696025
Spatial Reference: 3116
(3116)
Pixel Size X: 0.15000000000000036
Pixel Size Y: 0.149999999999998
Band Count: 3
Pixel Type: U8
RasterFunction Infos: {"rasterFunctionInfos": [{
"name": "None",
"description": "",
"help": ""
}]}
Mensuration Capabilities: Basic
Has Histograms: true
Has Colormap: false
Has Multi Dimensions : false
Rendering Rule:
Min Scale: 0
Max Scale: 0
Copyright Text: AlcaldÃa de Barranquilla
Service Data Type: esriImageServiceDataTypeRGB
Min Values: 1, 1, 1
Max Values: 255, 255, 255
Mean Values: 102.22599152615, 111.32766276964, 106.41150517901
Standard Deviation Values: 43.61618537445, 36.069223240851, 31.4703555534
Object ID Field:
Fields:
None
Default Mosaic Method: Center
Allowed Mosaic Methods:
SortField:
SortValue: null
Mosaic Operator: First
Default Compression Quality: 75
Default Resampling Method: Bilinear
Max Record Count: null
Max Image Height: 4100
Max Image Width: 15000
Max Download Image Count: null
Max Mosaic Image Count: null
Allow Raster Function: true
Allow Copy: null
Allow Analysis: null
Allow Compute TiePoints: false
Supports Statistics: false
Supports Advanced Queries: false
Use StandardizedQueries: true
Raster Type Infos:
Name: Raster Dataset
Description: Supports all ArcGIS Raster Datasets
Help:
Has Raster Attribute Table: false
Edit Fields Info: null
Ownership Based AccessControl For Rasters: null
Child Resources:
Info
Histograms
Key Properties
Legend
Raster Function Infos
Supported Operations:
Export Image
Identify
Measure
Compute Histograms
Compute Statistics Histograms
Get Samples
Compute Class Statistics
Query Boundary
Compute Pixel Location
Validate
Project