{
 "currentVersion": 10.81,
 "serviceDescription": "Ortofoto Rural SO de Barranquilla, 7.5 cms de GSD (Ground Sample Distance), tomada en 2016.",
 "name": "ortofoto_rural/Orto_Bquilla_Rur_SO_Esc10000",
 "description": "Ortofoto Rural SO de Barranquilla, 7.5 cms de GSD (Ground Sample Distance), tomada en 2016.",
 "extent": {
  "xmin": 909712.3454156036,
  "ymin": 1698811.770696025,
  "xmax": 919432.4954156036,
  "ymax": 1705740.420696025,
  "spatialReference": {
   "wkid": 3116,
   "latestWkid": 3116
  }
 },
 "initialExtent": {
  "xmin": 909712.3454156036,
  "ymin": 1698811.770696025,
  "xmax": 919432.4954156036,
  "ymax": 1705740.420696025,
  "spatialReference": {
   "wkid": 3116,
   "latestWkid": 3116
  }
 },
 "fullExtent": {
  "xmin": 909712.3454156036,
  "ymin": 1698811.770696025,
  "xmax": 919432.4954156036,
  "ymax": 1705740.420696025,
  "spatialReference": {
   "wkid": 3116,
   "latestWkid": 3116
  }
 },
 "pixelSizeX": 0.15000000000000036,
 "pixelSizeY": 0.149999999999998,
 "bandCount": 3,
 "pixelType": "U8",
 "minPixelSize": 0,
 "maxPixelSize": 0,
 "copyrightText": "Alcaldía de Barranquilla",
 "serviceDataType": "esriImageServiceDataTypeRGB",
 "minValues": [
  1,
  1,
  1
 ],
 "maxValues": [
  255,
  255,
  255
 ],
 "meanValues": [
  102.22599152615,
  111.32766276964,
  106.41150517901
 ],
 "stdvValues": [
  43.61618537445,
  36.069223240851,
  31.4703555534
 ],
 "objectIdField": "",
 "fields": [],
 "capabilities": "Image,Metadata,Mensuration",
 "defaultMosaicMethod": "Center",
 "allowedMosaicMethods": "",
 "sortField": "",
 "sortValue": null,
 "sortAscending": true,
 "mosaicOperator": "First",
 "defaultCompressionQuality": 75,
 "defaultResamplingMethod": "Bilinear",
 "maxImageHeight": 4100,
 "maxImageWidth": 15000,
 "allowRasterFunction": true,
 "rasterFunctionInfos": [
  {
   "name": "None",
   "description": "",
   "help": ""
  }
 ],
 "rasterTypeInfos": [
  {
   "name": "Raster Dataset",
   "description": "Supports all ArcGIS Raster Datasets",
   "help": ""
  }
 ],
 "mensurationCapabilities": "Basic",
 "hasHistograms": true,
 "hasColormap": false,
 "hasRasterAttributeTable": false,
 "minScale": 0,
 "maxScale": 0,
 "exportTilesAllowed": false,
 "hasMultidimensions": false,
 "supportsStatistics": false,
 "supportsAdvancedQueries": false,
 "editFieldsInfo": null,
 "ownershipBasedAccessControlForRasters": null,
 "allowComputeTiePoints": false,
 "useStandardizedQueries": true,
 "advancedQueryCapabilities": {
  "useStandardizedQueries": true,
  "supportsStatistics": false,
  "supportsOrderBy": false,
  "supportsDistinct": false,
  "supportsPagination": false
 },
 "spatialReference": {
  "wkid": 3116,
  "latestWkid": 3116
 }
}
