View In:
ArcGIS JavaScript
ArcGIS Online Map Viewer
ArcGIS Earth
ArcMap
View Footprint In:
ArcGIS Online Map Viewer
Service Description: Ortofoto Rural O de Barranquilla, 7.5 cms de GSD (Ground Sample Distance), tomada en 2016.
Name: ortofoto_rural/Orto_Bquilla_Rur_O_Esc10000
Description: Ortofoto Rural O de Barranquilla, 7.5 cms de GSD (Ground Sample Distance), tomada en 2016.
Single Fused Map Cache: false
Extent:
XMin: 907929.9999581873
YMin: 1702305.6185821556
XMax: 917091.2499581873
YMax: 1710250.3685821556
Spatial Reference: 3116
(3116)
Initial Extent:
XMin: 907929.9999581873
YMin: 1702305.6185821556
XMax: 917091.2499581873
YMax: 1710250.3685821556
Spatial Reference: 3116
(3116)
Full Extent:
XMin: 907929.9999581873
YMin: 1702305.6185821556
XMax: 917091.2499581873
YMax: 1710250.3685821556
Spatial Reference: 3116
(3116)
Pixel Size X: 0.15
Pixel Size Y: 0.15
Band Count: 3
Pixel Type: U8
RasterFunction Infos: {"rasterFunctionInfos": [{
"name": "None",
"description": "",
"help": ""
}]}
Mensuration Capabilities: Basic
Has Histograms: true
Has Colormap: false
Has Multi Dimensions : false
Rendering Rule:
Min Scale: 0
Max Scale: 0
Copyright Text: AlcaldÃa de Barranquilla
Service Data Type: esriImageServiceDataTypeRGB
Min Values: 1, 1, 1
Max Values: 255, 255, 255
Mean Values: 104.70166673435, 111.03155427155, 105.75741978076
Standard Deviation Values: 30.202358035346, 27.265663567628, 25.425157699277
Object ID Field:
Fields:
None
Default Mosaic Method: Center
Allowed Mosaic Methods:
SortField:
SortValue: null
Mosaic Operator: First
Default Compression Quality: 75
Default Resampling Method: Bilinear
Max Record Count: null
Max Image Height: 4100
Max Image Width: 15000
Max Download Image Count: null
Max Mosaic Image Count: null
Allow Raster Function: true
Allow Copy: null
Allow Analysis: null
Allow Compute TiePoints: false
Supports Statistics: false
Supports Advanced Queries: false
Use StandardizedQueries: true
Raster Type Infos:
Name: Raster Dataset
Description: Supports all ArcGIS Raster Datasets
Help:
Has Raster Attribute Table: false
Edit Fields Info: null
Ownership Based AccessControl For Rasters: null
Child Resources:
Info
Histograms
Key Properties
Legend
Raster Function Infos
Supported Operations:
Export Image
Identify
Measure
Compute Histograms
Compute Statistics Histograms
Get Samples
Compute Class Statistics
Query Boundary
Compute Pixel Location
Validate
Project