{
 "currentVersion": 10.81,
 "serviceDescription": "Ortofoto Rural O de Barranquilla, 7.5 cms de GSD (Ground Sample Distance), tomada en 2016.",
 "name": "ortofoto_rural/Orto_Bquilla_Rur_O_Esc10000",
 "description": "Ortofoto Rural O de Barranquilla, 7.5 cms de GSD (Ground Sample Distance), tomada en 2016.",
 "extent": {
  "xmin": 907929.9999581873,
  "ymin": 1702305.6185821556,
  "xmax": 917091.2499581873,
  "ymax": 1710250.3685821556,
  "spatialReference": {
   "wkid": 3116,
   "latestWkid": 3116
  }
 },
 "initialExtent": {
  "xmin": 907929.9999581873,
  "ymin": 1702305.6185821556,
  "xmax": 917091.2499581873,
  "ymax": 1710250.3685821556,
  "spatialReference": {
   "wkid": 3116,
   "latestWkid": 3116
  }
 },
 "fullExtent": {
  "xmin": 907929.9999581873,
  "ymin": 1702305.6185821556,
  "xmax": 917091.2499581873,
  "ymax": 1710250.3685821556,
  "spatialReference": {
   "wkid": 3116,
   "latestWkid": 3116
  }
 },
 "pixelSizeX": 0.15,
 "pixelSizeY": 0.15,
 "bandCount": 3,
 "pixelType": "U8",
 "minPixelSize": 0,
 "maxPixelSize": 0,
 "copyrightText": "Alcaldía de Barranquilla",
 "serviceDataType": "esriImageServiceDataTypeRGB",
 "minValues": [
  1,
  1,
  1
 ],
 "maxValues": [
  255,
  255,
  255
 ],
 "meanValues": [
  104.70166673435,
  111.03155427155,
  105.75741978076
 ],
 "stdvValues": [
  30.202358035346,
  27.265663567628,
  25.425157699277
 ],
 "objectIdField": "",
 "fields": [],
 "capabilities": "Image,Metadata,Mensuration",
 "defaultMosaicMethod": "Center",
 "allowedMosaicMethods": "",
 "sortField": "",
 "sortValue": null,
 "sortAscending": true,
 "mosaicOperator": "First",
 "defaultCompressionQuality": 75,
 "defaultResamplingMethod": "Bilinear",
 "maxImageHeight": 4100,
 "maxImageWidth": 15000,
 "allowRasterFunction": true,
 "rasterFunctionInfos": [
  {
   "name": "None",
   "description": "",
   "help": ""
  }
 ],
 "rasterTypeInfos": [
  {
   "name": "Raster Dataset",
   "description": "Supports all ArcGIS Raster Datasets",
   "help": ""
  }
 ],
 "mensurationCapabilities": "Basic",
 "hasHistograms": true,
 "hasColormap": false,
 "hasRasterAttributeTable": false,
 "minScale": 0,
 "maxScale": 0,
 "exportTilesAllowed": false,
 "hasMultidimensions": false,
 "supportsStatistics": false,
 "supportsAdvancedQueries": false,
 "editFieldsInfo": null,
 "ownershipBasedAccessControlForRasters": null,
 "allowComputeTiePoints": false,
 "useStandardizedQueries": true,
 "advancedQueryCapabilities": {
  "useStandardizedQueries": true,
  "supportsStatistics": false,
  "supportsOrderBy": false,
  "supportsDistinct": false,
  "supportsPagination": false
 },
 "spatialReference": {
  "wkid": 3116,
  "latestWkid": 3116
 }
}
