View In:
ArcGIS JavaScript
ArcGIS Online Map Viewer
ArcGIS Earth
ArcMap
View Footprint In:
ArcGIS Online Map Viewer
Service Description: Ortofoto Rural N de Barranquilla, 7.5 cms de GSD (Ground Sample Distance), tomada en 2016.
Name: ortofoto_rural/Orto_Bquilla_Rur_N_Esc10000
Description: Ortofoto Rural N de Barranquilla, 7.5 cms de GSD (Ground Sample Distance), tomada en 2016.
Single Fused Map Cache: false
Extent:
XMin: 913020.7431030283
YMin: 1703481.1229125995
XMax: 926343.8931030283
YMax: 1720215.4229125995
Spatial Reference: 3116
(3116)
Initial Extent:
XMin: 913020.7431030283
YMin: 1703481.1229125995
XMax: 926343.8931030283
YMax: 1720215.4229125995
Spatial Reference: 3116
(3116)
Full Extent:
XMin: 913020.7431030283
YMin: 1703481.1229125995
XMax: 926343.8931030283
YMax: 1720215.4229125995
Spatial Reference: 3116
(3116)
Pixel Size X: 0.15000000000000027
Pixel Size Y: 0.1500000000000004
Band Count: 3
Pixel Type: U8
RasterFunction Infos: {"rasterFunctionInfos": [{
"name": "None",
"description": "",
"help": ""
}]}
Mensuration Capabilities: Basic
Has Histograms: true
Has Colormap: false
Has Multi Dimensions : false
Rendering Rule:
Min Scale: 0
Max Scale: 0
Copyright Text: AlcaldÃa de Barranquilla
Service Data Type: esriImageServiceDataTypeRGB
Min Values: 1, 1, 1
Max Values: 255, 255, 255
Mean Values: 108.41054356699, 111.20309950998, 109.4869358102
Standard Deviation Values: 28.729579534624, 23.211395328294, 20.379636912203
Object ID Field:
Fields:
None
Default Mosaic Method: Center
Allowed Mosaic Methods:
SortField:
SortValue: null
Mosaic Operator: First
Default Compression Quality: 75
Default Resampling Method: Bilinear
Max Record Count: null
Max Image Height: 4100
Max Image Width: 15000
Max Download Image Count: null
Max Mosaic Image Count: null
Allow Raster Function: true
Allow Copy: null
Allow Analysis: null
Allow Compute TiePoints: false
Supports Statistics: false
Supports Advanced Queries: false
Use StandardizedQueries: true
Raster Type Infos:
Name: Raster Dataset
Description: Supports all ArcGIS Raster Datasets
Help:
Has Raster Attribute Table: false
Edit Fields Info: null
Ownership Based AccessControl For Rasters: null
Child Resources:
Info
Histograms
Key Properties
Legend
Raster Function Infos
Supported Operations:
Export Image
Identify
Measure
Compute Histograms
Compute Statistics Histograms
Get Samples
Compute Class Statistics
Query Boundary
Compute Pixel Location
Validate
Project