{
 "currentVersion": 10.81,
 "serviceDescription": "Ortofoto Rural N de Barranquilla, 7.5 cms de GSD (Ground Sample Distance), tomada en 2016.",
 "name": "ortofoto_rural/Orto_Bquilla_Rur_N_Esc10000",
 "description": "Ortofoto Rural N de Barranquilla, 7.5 cms de GSD (Ground Sample Distance), tomada en 2016.",
 "extent": {
  "xmin": 913020.7431030283,
  "ymin": 1703481.1229125995,
  "xmax": 926343.8931030283,
  "ymax": 1720215.4229125995,
  "spatialReference": {
   "wkid": 3116,
   "latestWkid": 3116
  }
 },
 "initialExtent": {
  "xmin": 913020.7431030283,
  "ymin": 1703481.1229125995,
  "xmax": 926343.8931030283,
  "ymax": 1720215.4229125995,
  "spatialReference": {
   "wkid": 3116,
   "latestWkid": 3116
  }
 },
 "fullExtent": {
  "xmin": 913020.7431030283,
  "ymin": 1703481.1229125995,
  "xmax": 926343.8931030283,
  "ymax": 1720215.4229125995,
  "spatialReference": {
   "wkid": 3116,
   "latestWkid": 3116
  }
 },
 "pixelSizeX": 0.15000000000000027,
 "pixelSizeY": 0.1500000000000004,
 "bandCount": 3,
 "pixelType": "U8",
 "minPixelSize": 0,
 "maxPixelSize": 0,
 "copyrightText": "Alcaldía de Barranquilla",
 "serviceDataType": "esriImageServiceDataTypeRGB",
 "minValues": [
  1,
  1,
  1
 ],
 "maxValues": [
  255,
  255,
  255
 ],
 "meanValues": [
  108.41054356699,
  111.20309950998,
  109.4869358102
 ],
 "stdvValues": [
  28.729579534624,
  23.211395328294,
  20.379636912203
 ],
 "objectIdField": "",
 "fields": [],
 "capabilities": "Image,Metadata,Mensuration",
 "defaultMosaicMethod": "Center",
 "allowedMosaicMethods": "",
 "sortField": "",
 "sortValue": null,
 "sortAscending": true,
 "mosaicOperator": "First",
 "defaultCompressionQuality": 75,
 "defaultResamplingMethod": "Bilinear",
 "maxImageHeight": 4100,
 "maxImageWidth": 15000,
 "allowRasterFunction": true,
 "rasterFunctionInfos": [
  {
   "name": "None",
   "description": "",
   "help": ""
  }
 ],
 "rasterTypeInfos": [
  {
   "name": "Raster Dataset",
   "description": "Supports all ArcGIS Raster Datasets",
   "help": ""
  }
 ],
 "mensurationCapabilities": "Basic",
 "hasHistograms": true,
 "hasColormap": false,
 "hasRasterAttributeTable": false,
 "minScale": 0,
 "maxScale": 0,
 "exportTilesAllowed": false,
 "hasMultidimensions": false,
 "supportsStatistics": false,
 "supportsAdvancedQueries": false,
 "editFieldsInfo": null,
 "ownershipBasedAccessControlForRasters": null,
 "allowComputeTiePoints": false,
 "useStandardizedQueries": true,
 "advancedQueryCapabilities": {
  "useStandardizedQueries": true,
  "supportsStatistics": false,
  "supportsOrderBy": false,
  "supportsDistinct": false,
  "supportsPagination": false
 },
 "spatialReference": {
  "wkid": 3116,
  "latestWkid": 3116
 }
}
