View In:
ArcGIS JavaScript
ArcGIS Online Map Viewer
ArcGIS Earth
ArcMap
View Footprint In:
ArcGIS Online Map Viewer
Service Description: Samo Imagen
Name: samo/samo_Orthomosaic
Description: Samo Imagen
Single Fused Map Cache: false
Extent:
XMin: -8332212.555692865
YMin: 1225442.6863133642
XMax: -8331335.579690417
YMax: 1226345.7721133106
Spatial Reference: 102100
(3857)
Initial Extent:
XMin: -8332212.555692865
YMin: 1225442.6863133642
XMax: -8331335.579690417
YMax: 1226345.7721133106
Spatial Reference: 102100
(3857)
Full Extent:
XMin: -8332212.555692865
YMin: 1225442.6863133642
XMax: -8331335.579690417
YMax: 1226345.7721133106
Spatial Reference: 102100
(3857)
Pixel Size X: 0.026520000000000397
Pixel Size Y: 0.02652000000000123
Band Count: 4
Pixel Type: U8
RasterFunction Infos: {"rasterFunctionInfos": [{
"name": "None",
"description": "",
"help": ""
}]}
Mensuration Capabilities: Basic
Has Histograms: false
Has Colormap: false
Has Multi Dimensions : false
Rendering Rule:
Min Scale: 4513.988705
Max Scale: 70.5310735
Copyright Text: AlcaldÃa de Barranquilla
Service Data Type: esriImageServiceDataTypeGeneric
Min Values: 1, 1, 1, 255
Max Values: 255, 255, 255, 255
Mean Values: 137.24646282897, 142.40259583932, 126.29284360525, 255
Standard Deviation Values: 46.350055907787, 39.110864558082, 45.975341853579, 0
Object ID Field:
Fields:
None
Default Mosaic Method: Center
Allowed Mosaic Methods:
SortField:
SortValue: null
Mosaic Operator: First
Default Compression Quality: 75
Default Resampling Method: Bilinear
Max Record Count: null
Max Image Height: 4100
Max Image Width: 15000
Max Download Image Count: null
Max Mosaic Image Count: null
Allow Raster Function: true
Allow Copy: null
Allow Analysis: null
Allow Compute TiePoints: false
Supports Statistics: false
Supports Advanced Queries: false
Use StandardizedQueries: true
Raster Type Infos:
Name: Raster Dataset
Description: Supports all ArcGIS Raster Datasets
Help:
Has Raster Attribute Table: false
Edit Fields Info: null
Ownership Based AccessControl For Rasters: null
Child Resources:
Info
Key Properties
Legend
Raster Function Infos
Supported Operations:
Export Image
Identify
Measure
Compute Histograms
Compute Statistics Histograms
Get Samples
Compute Class Statistics
Query Boundary
Compute Pixel Location
Validate
Project