View In:
ArcGIS JavaScript
ArcGIS Online Map Viewer
ArcGIS Earth
ArcMap
View Footprint In:
ArcGIS Online Map Viewer
Service Description: Ortofoto Urbana de Barranquilla, 7.5 cms de GSD (Ground Sample Distance), tomada en 2016.
Name: ortofoto_urbana/orto_bquilla_urb_esc1000
Description: Ortofoto Urbana de Barranquilla, 7.5 cms de GSD (Ground Sample Distance), tomada en 2016.
Single Fused Map Cache: true
Tile Info:
- Height: 256
- Width: 256
- DPI: 96
-
Levels of Detail: 10
- Format: MIXED
- Compression Quality: 75.0
- LERC Error: NaN
- Origin: X: -4623200.0
Y: 1.04939E7
- Spatial Reference: PROJCS["Marco_Geocentrico_Nacional_de_Referencia_Transverse_Mercator",GEOGCS["GCS_Marco_Geocentrico_Nacional_de_Referencia",DATUM["D_Marco_Geocentrico_Nacional_de_Referencia",SPHEROID["GRS_1980",6378137.0,298.257222101]],PRIMEM["Greenwich",0.0],UNIT["Degree",0.0174532925199433]],PROJECTION["Transverse_Mercator"],PARAMETER["false_easting",1000000.0],PARAMETER["false_northing",1000000.0],PARAMETER["central_meridian",-74.07750791666668],PARAMETER["scale_factor",1.0],PARAMETER["latitude_of_origin",4.596200416666665],UNIT["Meter",1.0]]
Extent:
XMin: 907196.5415190001
YMin: 1698851.7487010001
XMax: 926321.016519
YMax: 1716961.9237010002
Spatial Reference: PROJCS["Marco_Geocentrico_Nacional_de_Referencia_Transverse_Mercator",GEOGCS["GCS_Marco_Geocentrico_Nacional_de_Referencia",DATUM["D_Marco_Geocentrico_Nacional_de_Referencia",SPHEROID["GRS_1980",6378137.0,298.257222101]],PRIMEM["Greenwich",0.0],UNIT["Degree",0.0174532925199433]],PROJECTION["Transverse_Mercator"],PARAMETER["false_easting",1000000.0],PARAMETER["false_northing",1000000.0],PARAMETER["central_meridian",-74.07750791666668],PARAMETER["scale_factor",1.0],PARAMETER["latitude_of_origin",4.596200416666665],UNIT["Meter",1.0]]
Initial Extent:
XMin: 907196.5415190001
YMin: 1698851.7487010001
XMax: 926321.016519
YMax: 1716961.9237010002
Spatial Reference: PROJCS["Marco_Geocentrico_Nacional_de_Referencia_Transverse_Mercator",GEOGCS["GCS_Marco_Geocentrico_Nacional_de_Referencia",DATUM["D_Marco_Geocentrico_Nacional_de_Referencia",SPHEROID["GRS_1980",6378137.0,298.257222101]],PRIMEM["Greenwich",0.0],UNIT["Degree",0.0174532925199433]],PROJECTION["Transverse_Mercator"],PARAMETER["false_easting",1000000.0],PARAMETER["false_northing",1000000.0],PARAMETER["central_meridian",-74.07750791666668],PARAMETER["scale_factor",1.0],PARAMETER["latitude_of_origin",4.596200416666665],UNIT["Meter",1.0]]
Full Extent:
XMin: 907196.5415190001
YMin: 1698851.7487010001
XMax: 926321.016519
YMax: 1716961.9237010002
Spatial Reference: PROJCS["Marco_Geocentrico_Nacional_de_Referencia_Transverse_Mercator",GEOGCS["GCS_Marco_Geocentrico_Nacional_de_Referencia",DATUM["D_Marco_Geocentrico_Nacional_de_Referencia",SPHEROID["GRS_1980",6378137.0,298.257222101]],PRIMEM["Greenwich",0.0],UNIT["Degree",0.0174532925199433]],PROJECTION["Transverse_Mercator"],PARAMETER["false_easting",1000000.0],PARAMETER["false_northing",1000000.0],PARAMETER["central_meridian",-74.07750791666668],PARAMETER["scale_factor",1.0],PARAMETER["latitude_of_origin",4.596200416666665],UNIT["Meter",1.0]]
Pixel Size X: 0.07499999999999991
Pixel Size Y: 0.07500000000000019
Band Count: 3
Pixel Type: U8
RasterFunction Infos: {"rasterFunctionInfos": [{
"name": "None",
"description": "",
"help": ""
}]}
Mensuration Capabilities: Basic
Has Histograms: true
Has Colormap: false
Has Multi Dimensions : false
Rendering Rule:
Min Scale: 144447.638572
Max Scale: 282.124294
Copyright Text: AlcaldÃa de Barranquilla
Service Data Type: esriImageServiceDataTypeRGB
Min Values: 1, 1, 1
Max Values: 255, 255, 255
Mean Values: 106.72294376578, 111.52876621612, 106.15388486386
Standard Deviation Values: 46.372548674236, 43.902019260886, 42.616942091239
Object ID Field:
Fields:
None
Default Mosaic Method: Center
Allowed Mosaic Methods:
SortField:
SortValue: null
Mosaic Operator: First
Default Compression Quality: 75
Default Resampling Method: Bilinear
Max Record Count: null
Max Image Height: 4100
Max Image Width: 15000
Max Download Image Count: null
Max Mosaic Image Count: null
Allow Raster Function: true
Allow Copy: null
Allow Analysis: null
Allow Compute TiePoints: false
Supports Statistics: false
Supports Advanced Queries: false
Use StandardizedQueries: true
Raster Type Infos:
Name: Raster Dataset
Description: Supports all ArcGIS Raster Datasets
Help:
Has Raster Attribute Table: false
Edit Fields Info: null
Ownership Based AccessControl For Rasters: null
Child Resources:
Info
Histograms
Key Properties
Legend
Raster Function Infos
Supported Operations:
Export Image
Identify
Measure
Compute Histograms
Compute Statistics Histograms
Get Samples
Compute Class Statistics
Query Boundary
Compute Pixel Location
Validate
Project