View In:
ArcGIS JavaScript
ArcGIS Online Map Viewer
ArcGIS Earth
ArcMap
View Footprint In:
ArcGIS Online Map Viewer
Service Description: ortofoto_urbana/Ortoimagen_Malecon_del_rio_8cm
Name: ortofoto_urbana/Ortoimagen_Malecon_del_rio_8cm
Description:
Single Fused Map Cache: false
Extent:
XMin: 4803130.396
YMin: 2767960.308
XMax: 4807992.316
YMax: 2777262.628
Spatial Reference: PROJCS["MAGNA_SIRGAS_2018_Origen_Nacional",GEOGCS["GCS_MAGNA_SIRGAS_2018",DATUM["D_",SPHEROID["GRS_1980",6378137.0,298.257222101]],PRIMEM["Greenwich",0.0],UNIT["Degree",0.0174532925199433]],PROJECTION["Transverse_Mercator"],PARAMETER["false_easting",5000000.0],PARAMETER["false_northing",2000000.0],PARAMETER["central_meridian",-73.0],PARAMETER["scale_factor",0.9992],PARAMETER["latitude_of_origin",4.0],UNIT["Meter",1.0]],VERTCS["unknown",VDATUM["unknown"],PARAMETER["Vertical_Shift",0.0],PARAMETER["Direction",1.0],UNIT["Meter",1.0]]
Initial Extent:
XMin: 4803130.396
YMin: 2767960.308
XMax: 4807992.316
YMax: 2777262.628
Spatial Reference: PROJCS["MAGNA_SIRGAS_2018_Origen_Nacional",GEOGCS["GCS_MAGNA_SIRGAS_2018",DATUM["D_",SPHEROID["GRS_1980",6378137.0,298.257222101]],PRIMEM["Greenwich",0.0],UNIT["Degree",0.0174532925199433]],PROJECTION["Transverse_Mercator"],PARAMETER["false_easting",5000000.0],PARAMETER["false_northing",2000000.0],PARAMETER["central_meridian",-73.0],PARAMETER["scale_factor",0.9992],PARAMETER["latitude_of_origin",4.0],UNIT["Meter",1.0]],VERTCS["unknown",VDATUM["unknown"],PARAMETER["Vertical_Shift",0.0],PARAMETER["Direction",1.0],UNIT["Meter",1.0]]
Full Extent:
XMin: 4803130.396
YMin: 2767960.308
XMax: 4807992.316
YMax: 2777262.628
Spatial Reference: PROJCS["MAGNA_SIRGAS_2018_Origen_Nacional",GEOGCS["GCS_MAGNA_SIRGAS_2018",DATUM["D_",SPHEROID["GRS_1980",6378137.0,298.257222101]],PRIMEM["Greenwich",0.0],UNIT["Degree",0.0174532925199433]],PROJECTION["Transverse_Mercator"],PARAMETER["false_easting",5000000.0],PARAMETER["false_northing",2000000.0],PARAMETER["central_meridian",-73.0],PARAMETER["scale_factor",0.9992],PARAMETER["latitude_of_origin",4.0],UNIT["Meter",1.0]],VERTCS["unknown",VDATUM["unknown"],PARAMETER["Vertical_Shift",0.0],PARAMETER["Direction",1.0],UNIT["Meter",1.0]]
Pixel Size X: 0.07999999999999878
Pixel Size Y: 0.07999999999999856
Band Count: 4
Pixel Type: U8
RasterFunction Infos: {"rasterFunctionInfos": [{
"name": "None",
"description": "",
"help": ""
}]}
Mensuration Capabilities: Basic
Has Histograms: true
Has Colormap: false
Has Multi Dimensions : false
Rendering Rule:
Min Scale: 0
Max Scale: 0
Copyright Text:
Service Data Type: esriImageServiceDataTypeGeneric
Min Values: 0, 0, 0, 0
Max Values: 255, 255, 255, 255
Mean Values: 216.89337170948, 220.02258031761, 210.89470282972, 81.775489948293
Standard Deviation Values: 63.350825691927, 57.44210984999, 70.768000998579, 119.01898664746
Object ID Field:
Fields:
None
Default Mosaic Method: Center
Allowed Mosaic Methods:
SortField:
SortValue: null
Mosaic Operator: First
Default Compression Quality: 75
Default Resampling Method: Bilinear
Max Record Count: null
Max Image Height: 4100
Max Image Width: 15000
Max Download Image Count: null
Max Mosaic Image Count: null
Allow Raster Function: true
Allow Copy: true
Allow Analysis: true
Allow Compute TiePoints: false
Supports Statistics: false
Supports Advanced Queries: false
Use StandardizedQueries: true
Raster Type Infos:
Name: Raster Dataset
Description: Compatible con todos los datasets de rĂ¡steres de ArcGIS
Help:
Has Raster Attribute Table: false
Edit Fields Info: null
Ownership Based AccessControl For Rasters: null
Child Resources:
Info
Histograms
Statistics
Key Properties
Legend
Raster Function Infos
Supported Operations:
Export Image
Identify
Measure
Compute Histograms
Compute Statistics Histograms
Get Samples
Compute Class Statistics
Query Boundary
Compute Pixel Location
Validate
Project