{
 "currentVersion": 10.81,
 "serviceDescription": "ortofoto_rural/ORTOMOSAICO_MANAOS",
 "name": "ortofoto_rural/ORTOMOSAICO_MANAOS",
 "description": "",
 "extent": {
  "xmin": 4796991.197,
  "ymin": 2769822.068,
  "xmax": 4799249.836999999,
  "ymax": 2772100.308,
  "spatialReference": {
   "wkt": "PROJCS[\"MAGNA_SIRGAS_2018_Origen_Nacional\",GEOGCS[\"GCS_MAGNA_SIRGAS_2018\",DATUM[\"D_\",SPHEROID[\"GRS_1980\",6378137.0,298.257222101]],PRIMEM[\"Greenwich\",0.0],UNIT[\"Degree\",0.0174532925199433]],PROJECTION[\"Transverse_Mercator\"],PARAMETER[\"false_easting\",5000000.0],PARAMETER[\"false_northing\",2000000.0],PARAMETER[\"central_meridian\",-73.0],PARAMETER[\"scale_factor\",0.9992],PARAMETER[\"latitude_of_origin\",4.0],UNIT[\"Meter\",1.0]],VERTCS[\"unknown\",VDATUM[\"unknown\"],PARAMETER[\"Vertical_Shift\",0.0],PARAMETER[\"Direction\",1.0],UNIT[\"Meter\",1.0]]"
  }
 },
 "initialExtent": {
  "xmin": 4796991.197,
  "ymin": 2769822.068,
  "xmax": 4799249.836999999,
  "ymax": 2772100.308,
  "spatialReference": {
   "wkt": "PROJCS[\"MAGNA_SIRGAS_2018_Origen_Nacional\",GEOGCS[\"GCS_MAGNA_SIRGAS_2018\",DATUM[\"D_\",SPHEROID[\"GRS_1980\",6378137.0,298.257222101]],PRIMEM[\"Greenwich\",0.0],UNIT[\"Degree\",0.0174532925199433]],PROJECTION[\"Transverse_Mercator\"],PARAMETER[\"false_easting\",5000000.0],PARAMETER[\"false_northing\",2000000.0],PARAMETER[\"central_meridian\",-73.0],PARAMETER[\"scale_factor\",0.9992],PARAMETER[\"latitude_of_origin\",4.0],UNIT[\"Meter\",1.0]],VERTCS[\"unknown\",VDATUM[\"unknown\"],PARAMETER[\"Vertical_Shift\",0.0],PARAMETER[\"Direction\",1.0],UNIT[\"Meter\",1.0]]"
  }
 },
 "fullExtent": {
  "xmin": 4796991.197,
  "ymin": 2769822.068,
  "xmax": 4799249.836999999,
  "ymax": 2772100.308,
  "spatialReference": {
   "wkt": "PROJCS[\"MAGNA_SIRGAS_2018_Origen_Nacional\",GEOGCS[\"GCS_MAGNA_SIRGAS_2018\",DATUM[\"D_\",SPHEROID[\"GRS_1980\",6378137.0,298.257222101]],PRIMEM[\"Greenwich\",0.0],UNIT[\"Degree\",0.0174532925199433]],PROJECTION[\"Transverse_Mercator\"],PARAMETER[\"false_easting\",5000000.0],PARAMETER[\"false_northing\",2000000.0],PARAMETER[\"central_meridian\",-73.0],PARAMETER[\"scale_factor\",0.9992],PARAMETER[\"latitude_of_origin\",4.0],UNIT[\"Meter\",1.0]],VERTCS[\"unknown\",VDATUM[\"unknown\"],PARAMETER[\"Vertical_Shift\",0.0],PARAMETER[\"Direction\",1.0],UNIT[\"Meter\",1.0]]"
  }
 },
 "heightModelInfo": {
  "heightModel": "gravity_related_height",
  "vertCRS": "unknown",
  "heightUnit": "metro"
 },
 "pixelSizeX": 0.07999999999998812,
 "pixelSizeY": 0.08000000000000784,
 "datasetFormat": "TIFF",
 "uncompressedSize": 3216077496,
 "blockWidth": 256,
 "blockHeight": 256,
 "compressionType": "LZW",
 "bandNames": [
  "Band_1",
  "Band_2",
  "Band_3",
  "Band_4"
 ],
 "allowCopy": true,
 "allowAnalysis": true,
 "bandCount": 4,
 "pixelType": "U8",
 "minPixelSize": 0,
 "maxPixelSize": 0,
 "copyrightText": "",
 "serviceDataType": "esriImageServiceDataTypeGeneric",
 "serviceSourceType": "esriImageServiceSourceTypeDataset",
 "minValues": [
  0,
  0,
  0,
  0
 ],
 "maxValues": [
  255,
  255,
  255,
  255
 ],
 "meanValues": [
  183.92028629627,
  189.04868962634,
  173.59985042477,
  152.82257299188
 ],
 "stdvValues": [
  71.202201988825,
  64.45843801741,
  78.831250611718,
  124.96006288606
 ],
 "objectIdField": "",
 "fields": [],
 "capabilities": "Image,Metadata,Mensuration",
 "defaultMosaicMethod": "Center",
 "allowedMosaicMethods": "",
 "sortField": "",
 "sortValue": null,
 "sortAscending": true,
 "mosaicOperator": "First",
 "defaultCompressionQuality": 75,
 "defaultResamplingMethod": "Bilinear",
 "maxImageHeight": 4100,
 "maxImageWidth": 15000,
 "allowRasterFunction": true,
 "rasterFunctionInfos": [
  {
   "name": "None",
   "description": "",
   "help": ""
  }
 ],
 "rasterTypeInfos": [
  {
   "name": "Raster Dataset",
   "description": "Compatible con todos los datasets de rĂ¡steres de ArcGIS",
   "help": ""
  }
 ],
 "mensurationCapabilities": "Basic",
 "hasHistograms": true,
 "hasColormap": false,
 "hasRasterAttributeTable": false,
 "minScale": 0,
 "maxScale": 0,
 "exportTilesAllowed": false,
 "hasMultidimensions": false,
 "supportsStatistics": false,
 "supportsAdvancedQueries": false,
 "editFieldsInfo": null,
 "ownershipBasedAccessControlForRasters": null,
 "allowComputeTiePoints": false,
 "useStandardizedQueries": true,
 "advancedQueryCapabilities": {
  "useStandardizedQueries": true,
  "supportsStatistics": false,
  "supportsOrderBy": false,
  "supportsDistinct": false,
  "supportsPagination": false
 },
 "spatialReference": {
  "wkt": "PROJCS[\"MAGNA_SIRGAS_2018_Origen_Nacional\",GEOGCS[\"GCS_MAGNA_SIRGAS_2018\",DATUM[\"D_\",SPHEROID[\"GRS_1980\",6378137.0,298.257222101]],PRIMEM[\"Greenwich\",0.0],UNIT[\"Degree\",0.0174532925199433]],PROJECTION[\"Transverse_Mercator\"],PARAMETER[\"false_easting\",5000000.0],PARAMETER[\"false_northing\",2000000.0],PARAMETER[\"central_meridian\",-73.0],PARAMETER[\"scale_factor\",0.9992],PARAMETER[\"latitude_of_origin\",4.0],UNIT[\"Meter\",1.0]],VERTCS[\"unknown\",VDATUM[\"unknown\"],PARAMETER[\"Vertical_Shift\",0.0],PARAMETER[\"Direction\",1.0],UNIT[\"Meter\",1.0]]"
 }
}
